BEGIN:VCALENDAR
VERSION:2.0
PRODID:-//Australian Chess Federation Inc. - ECPv6.8.3//NONSGML v1.0//EN
CALSCALE:GREGORIAN
METHOD:PUBLISH
X-WR-CALNAME:Australian Chess Federation Inc.
X-ORIGINAL-URL:https://auschess.org.au
X-WR-CALDESC:Events for Australian Chess Federation Inc.
REFRESH-INTERVAL;VALUE=DURATION:PT1H
X-Robots-Tag:noindex
X-PUBLISHED-TTL:PT1H
BEGIN:VTIMEZONE
TZID:Australia/Sydney
BEGIN:STANDARD
TZOFFSETFROM:+1100
TZOFFSETTO:+1000
TZNAME:AEST
DTSTART:20240406T160000
END:STANDARD
BEGIN:DAYLIGHT
TZOFFSETFROM:+1000
TZOFFSETTO:+1100
TZNAME:AEDT
DTSTART:20241005T160000
END:DAYLIGHT
END:VTIMEZONE
BEGIN:VEVENT
DTSTART;VALUE=DATE:20240712
DTEND;VALUE=DATE:20240715
DTSTAMP:20260423T213753
CREATED:20240702T074553Z
LAST-MODIFIED:20240702T074553Z
UID:3938-1720742400-1721001599@auschess.org.au
SUMMARY:2024 SA Checkmate Weekend
DESCRIPTION:The South Australian Chess Association Presents:\nThe 2024 Checkmate Weekend \nTwo divisions:\nThe Checkmate FIDE Open 2024\n6 Rounds Swiss 90 Minutes + 30 Seconds a move\nFriday 12th to Sunday 14th of July\, 2024 \nThe Checkmate FIDE Challengers 2024 (Under 1600 ACF)\n6 Rounds Swiss 60 Minutes + 30 Seconds a move\nSaturday 13th to Sunday 14th of July\, 2024 \nThe Chess Centre of South Australia\,\n10 Ranelagh Street\, Adelaide. \n$2\,400+ prize pool.
URL:https://auschess.org.au/event/2024-sa-checkmate-weekend/
LOCATION:The Chess Centre of South Australia\, 10 Ranelagh St\, Adelaide\, SA\, 5000\, Australia
CATEGORIES:State / Other Events
ORGANIZER;CN="AaronPerkins":MAILTO:tournaments@sachess.org.au
END:VEVENT
BEGIN:VEVENT
DTSTART;VALUE=DATE:20240720
DTEND;VALUE=DATE:20240721
DTSTAMP:20260423T213753
CREATED:20240607T013802Z
LAST-MODIFIED:20240607T013802Z
UID:3925-1721433600-1721519999@auschess.org.au
SUMMARY:2024 Strategic Minds Celebrate 100 Rapid
DESCRIPTION:A seven round Rapid 15 minutes plus 5 seconds per move to be part of the FIDE 100 Guinness World Record for the most chess games played within 24 hours.
URL:https://auschess.org.au/event/2024-strategic-minds-celebrate-100-rapid/
LOCATION:Anglican Church Grammar School (Churchie)\, Oaklands Parade\, East Brisbane\, QLD\, 4169\, Australia
CATEGORIES:State / Other Events
ORGANIZER;CN="Henry Slater Jones":MAILTO:henryslaterjones@gmail.com
END:VEVENT
BEGIN:VEVENT
DTSTART;TZID=Australia/Sydney:20241223T183000
DTEND;TZID=Australia/Sydney:20241223T213000
DTSTAMP:20260423T213753
CREATED:20241206T001115Z
LAST-MODIFIED:20241206T001115Z
UID:4076-1734978600-1734989400@auschess.org.au
SUMMARY:2024 Victorian Blitz Championship
DESCRIPTION:2024 Victorian Blitz Championship
URL:https://auschess.org.au/event/2024-victorian-blitz-championship/
LOCATION:Melbourne Chess Club\, 66 Leicester St\, Fitzroy\, VIC\, Australia
CATEGORIES:State / Other Events
ORGANIZER;CN="Leonid Sandler":MAILTO:leonidsandlerchess@gmail.com
END:VEVENT
END:VCALENDAR