BEGIN:VCALENDAR
VERSION:2.0
PRODID:-//Australian Chess Federation Inc. - ECPv6.8.3//NONSGML v1.0//EN
CALSCALE:GREGORIAN
METHOD:PUBLISH
X-ORIGINAL-URL:https://auschess.org.au
X-WR-CALDESC:Events for Australian Chess Federation Inc.
REFRESH-INTERVAL;VALUE=DURATION:PT1H
X-Robots-Tag:noindex
X-PUBLISHED-TTL:PT1H
BEGIN:VTIMEZONE
TZID:Australia/Sydney
BEGIN:STANDARD
TZOFFSETFROM:+1100
TZOFFSETTO:+1000
TZNAME:AEST
DTSTART:20240406T160000
END:STANDARD
BEGIN:DAYLIGHT
TZOFFSETFROM:+1000
TZOFFSETTO:+1100
TZNAME:AEDT
DTSTART:20241005T160000
END:DAYLIGHT
END:VTIMEZONE
BEGIN:VEVENT
DTSTART;TZID=Australia/Sydney:20240301T080000
DTEND;TZID=Australia/Sydney:20240304T170000
DTSTAMP:20260422T015123
CREATED:20240118T234134Z
LAST-MODIFIED:20240118T234134Z
UID:3752-1709280000-1709571600@auschess.org.au
SUMMARY:2024 Perth International Open
DESCRIPTION:The annual Perth International Open is Western Australia’s leading weekend chess event. It is a festival of 3 different tournaments run by the Chess Association of Western Australia. Whether you are a serious club player or a relative newcomer to chess\, there will be something of interest for all. \nThe 2024 Perth International Open will be a 7 round Swiss. All players in the Open must be rated above 1400 FIDE or above 1500 ACF. \nThe 2024 Perth Minor is another 7 round Swiss tournament\, running parallel to the Perth International Open. All players in the Minor must be rated below 1500 FIDE or below 1600 ACF. \nThe event will be hosted by the beautiful Rendezvous Hotel Perth Scarborough. Players will be able to enjoy Scarborough’s perfect beach\, art projects\, outdoor heated swimming pool\, children’s playgrounds\, laid-back cafes\, and a wide range of restaurants and vibrant bars along the beachside. There will also be some of the best chess that you will find anywhere. It has the makings of a memorable tournament.
URL:https://auschess.org.au/event/2024-perth-international-open/
LOCATION:Rendezvous Hotel Perth Scarborough\, 148 The Esplanade\, Scarborough\, WA\, 6019
CATEGORIES:State / Other Events
ORGANIZER;CN="Andrew Hardegen":MAILTO:2023auschessopen@gmail.com
END:VEVENT
END:VCALENDAR