BEGIN:VCALENDAR
VERSION:2.0
PRODID:-//Australian Chess Federation Inc. - ECPv6.8.3//NONSGML v1.0//EN
CALSCALE:GREGORIAN
METHOD:PUBLISH
X-WR-CALNAME:Australian Chess Federation Inc.
X-ORIGINAL-URL:https://auschess.org.au
X-WR-CALDESC:Events for Australian Chess Federation Inc.
REFRESH-INTERVAL;VALUE=DURATION:PT1H
X-Robots-Tag:noindex
X-PUBLISHED-TTL:PT1H
BEGIN:VTIMEZONE
TZID:Australia/Sydney
BEGIN:STANDARD
TZOFFSETFROM:+1100
TZOFFSETTO:+1000
TZNAME:AEST
DTSTART:20230401T160000
END:STANDARD
BEGIN:DAYLIGHT
TZOFFSETFROM:+1000
TZOFFSETTO:+1100
TZNAME:AEDT
DTSTART:20230930T160000
END:DAYLIGHT
END:VTIMEZONE
BEGIN:VEVENT
DTSTART;VALUE=DATE:20230513
DTEND;VALUE=DATE:20230515
DTSTAMP:20260422T163932
CREATED:20230320T032335Z
LAST-MODIFIED:20230417T082604Z
UID:3540-1683936000-1684108799@auschess.org.au
SUMMARY:2023 Darling Downs Open
DESCRIPTION:A seven round swiss tournament ACF and QJ rated; – time control is 60 minutes plus 10 seconds from move 1 with $14\,000.00 in prize money! \n2023 Byron Capital Darling Downs Open Flyer\n 
URL:https://auschess.org.au/event/2023-darling-downs-open/
LOCATION:Toowoomba Grammar School Junior Hall\, Herries Street\, Toowoomba\, QLD\, 4350\, Australia
CATEGORIES:State / Other Events
ORGANIZER;CN="Sam Buckley":MAILTO:sam@toowoombachessclub.com.au
END:VEVENT
END:VCALENDAR