BEGIN:VCALENDAR
VERSION:2.0
PRODID:-//Australian Chess Federation Inc. - ECPv6.8.3//NONSGML v1.0//EN
CALSCALE:GREGORIAN
METHOD:PUBLISH
X-ORIGINAL-URL:https://auschess.org.au
X-WR-CALDESC:Events for Australian Chess Federation Inc.
REFRESH-INTERVAL;VALUE=DURATION:PT1H
X-Robots-Tag:noindex
X-PUBLISHED-TTL:PT1H
BEGIN:VTIMEZONE
TZID:Australia/Sydney
BEGIN:STANDARD
TZOFFSETFROM:+1100
TZOFFSETTO:+1000
TZNAME:AEST
DTSTART:20200404T160000
END:STANDARD
BEGIN:DAYLIGHT
TZOFFSETFROM:+1000
TZOFFSETTO:+1100
TZNAME:AEDT
DTSTART:20201003T160000
END:DAYLIGHT
END:VTIMEZONE
BEGIN:VEVENT
DTSTART;TZID=Australia/Sydney:20201010T090000
DTEND;TZID=Australia/Sydney:20201011T170000
DTSTAMP:20260424T100612
CREATED:20200802T051338Z
LAST-MODIFIED:20200802T051338Z
UID:2441-1602320400-1602435600@auschess.org.au
SUMMARY:Queensland Womens and Girls Championship
DESCRIPTION:8 year old Elizabeth Williams will defend her Queensland Women’s and Girls Champion title!\n2019 QLD Womens and Girls report \nThe venue is to be confirmed mid- September 2020
URL:https://auschess.org.au/event/queensland-womens-and-girls-championship/
LOCATION:Loreto College Coorparoo\, 415 Cavendish St\, Coorparoo\, QLD\, 4151\, Australia
CATEGORIES:State / Other Events
ORGANIZER;CN="Gail Young":MAILTO:qwclqwcl@gmail.com
END:VEVENT
END:VCALENDAR