BEGIN:VCALENDAR
VERSION:2.0
PRODID:-//Australian Chess Federation Inc. - ECPv6.8.3//NONSGML v1.0//EN
CALSCALE:GREGORIAN
METHOD:PUBLISH
X-ORIGINAL-URL:https://auschess.org.au
X-WR-CALDESC:Events for Australian Chess Federation Inc.
REFRESH-INTERVAL;VALUE=DURATION:PT1H
X-Robots-Tag:noindex
X-PUBLISHED-TTL:PT1H
BEGIN:VTIMEZONE
TZID:Australia/Sydney
BEGIN:STANDARD
TZOFFSETFROM:+1100
TZOFFSETTO:+1000
TZNAME:AEST
DTSTART:20200404T160000
END:STANDARD
BEGIN:DAYLIGHT
TZOFFSETFROM:+1000
TZOFFSETTO:+1100
TZNAME:AEDT
DTSTART:20201003T160000
END:DAYLIGHT
END:VTIMEZONE
BEGIN:VEVENT
DTSTART;TZID=Australia/Sydney:20200919T083000
DTEND;TZID=Australia/Sydney:20200920T170000
DTSTAMP:20260424T111938
CREATED:20200731T110459Z
LAST-MODIFIED:20200731T110614Z
UID:2423-1600504200-1600621200@auschess.org.au
SUMMARY:Nell Van de Graaff Classic
DESCRIPTION:Nell Van de Graaff Classic\n\nOne of Queensland’s strongest tournaments each year\, the Nell van de Graaff Classic is a 7 round swiss event which features a unique teams component that allows players of all abilities and ages to compete for prizes! \nMake sure you get involved and join the 100+ expected players. \nFull information can be found on the flyer. \n\n\n\n\n\nWhen\n\nSat 19 Sep 2020\n\n\n\nWhere\n\nHinterland Hotel\, 53 Station St\, Nerang QLD 4211\, Australia (map)
URL:https://auschess.org.au/event/2423/
LOCATION:Hinterland Hotel\, 53 Station St\, Nerang\, QLD\, 4211\, Australia
CATEGORIES:State / Other Events
ORGANIZER;CN="Shaun Curtis":MAILTO:scurtis@gardinerchess.com.au
END:VEVENT
END:VCALENDAR