BEGIN:VCALENDAR
VERSION:2.0
PRODID:-//Australian Chess Federation Inc. - ECPv6.8.3//NONSGML v1.0//EN
CALSCALE:GREGORIAN
METHOD:PUBLISH
X-ORIGINAL-URL:https://auschess.org.au
X-WR-CALDESC:Events for Australian Chess Federation Inc.
REFRESH-INTERVAL;VALUE=DURATION:PT1H
X-Robots-Tag:noindex
X-PUBLISHED-TTL:PT1H
BEGIN:VTIMEZONE
TZID:Australia/Sydney
BEGIN:STANDARD
TZOFFSETFROM:+1100
TZOFFSETTO:+1000
TZNAME:AEST
DTSTART:20200404T160000
END:STANDARD
BEGIN:DAYLIGHT
TZOFFSETFROM:+1000
TZOFFSETTO:+1100
TZNAME:AEDT
DTSTART:20201003T160000
END:DAYLIGHT
END:VTIMEZONE
BEGIN:VEVENT
DTSTART;VALUE=DATE:20200702
DTEND;VALUE=DATE:20200707
DTSTAMP:20260424T134131
CREATED:20200224T093455Z
LAST-MODIFIED:20200523T023926Z
UID:2280-1593648000-1594079999@auschess.org.au
SUMMARY:2020 Gold Coast Open - Cancelled
DESCRIPTION:The Gold Coast Open is Queensland’s biggest chess tournament with a record attendance of over 180 players\, including 5 GM’s in 2018 . Then 2019 saw 176 participants! 2020 is set to be even bigger! 4 GM’s have entered to date. An event not to miss as JETS is also on the Gold Coast in 2020.
URL:https://auschess.org.au/event/2020-gold-coast-open/
LOCATION:Quality Hotel Mermaid Waters\, Cnr Markeri St & Sunshine Blvd\, Mermaid Waters\, QLD\, 4218\, Australia
CATEGORIES:State / Other Events
ORGANIZER;CN="Shaun Curtis":MAILTO:scurtis@gardinerchess.com.au
END:VEVENT
BEGIN:VEVENT
DTSTART;TZID=Australia/Sydney:20200706T193000
DTEND;TZID=Australia/Sydney:20200706T193000
DTSTAMP:20260424T134131
CREATED:20200209T004802Z
LAST-MODIFIED:20200523T024021Z
UID:2268-1594063800-1594063800@auschess.org.au
SUMMARY:Rooty Hill Open - Cancelled
DESCRIPTION:9 round FIDE rated Open 90 mins plus 30 seconds per move.
URL:https://auschess.org.au/event/rooty-hill-open-2020-07-06/
LOCATION:Rooty Hill RSL\, Sherbrooke St\, Rooty Hill\, NSW\, 2766\, Australia
CATEGORIES:State / Other Events
ORGANIZER;CN="Peter Cassettari":MAILTO:pcass1@live.com.au
END:VEVENT
END:VCALENDAR