BEGIN:VCALENDAR
VERSION:2.0
PRODID:-//Australian Chess Federation Inc. - ECPv6.8.3//NONSGML v1.0//EN
CALSCALE:GREGORIAN
METHOD:PUBLISH
X-WR-CALNAME:Australian Chess Federation Inc.
X-ORIGINAL-URL:https://auschess.org.au
X-WR-CALDESC:Events for Australian Chess Federation Inc.
REFRESH-INTERVAL;VALUE=DURATION:PT1H
X-Robots-Tag:noindex
X-PUBLISHED-TTL:PT1H
BEGIN:VTIMEZONE
TZID:Australia/Sydney
BEGIN:STANDARD
TZOFFSETFROM:+1100
TZOFFSETTO:+1000
TZNAME:AEST
DTSTART:20200404T160000
END:STANDARD
BEGIN:DAYLIGHT
TZOFFSETFROM:+1000
TZOFFSETTO:+1100
TZNAME:AEDT
DTSTART:20201003T160000
END:DAYLIGHT
END:VTIMEZONE
BEGIN:VEVENT
DTSTART;TZID=Australia/Sydney:20200615T193000
DTEND;TZID=Australia/Sydney:20200615T193000
DTSTAMP:20260424T144432
CREATED:20200209T004802Z
LAST-MODIFIED:20200523T024020Z
UID:2262-1592249400-1592249400@auschess.org.au
SUMMARY:Rooty Hill Open - Cancelled
DESCRIPTION:9 round FIDE rated Open 90 mins plus 30 seconds per move.
URL:https://auschess.org.au/event/rooty-hill-open/
LOCATION:Rooty Hill RSL\, Sherbrooke St\, Rooty Hill\, NSW\, 2766\, Australia
CATEGORIES:State / Other Events
ORGANIZER;CN="Peter Cassettari":MAILTO:pcass1@live.com.au
END:VEVENT
END:VCALENDAR