BEGIN:VCALENDAR
VERSION:2.0
PRODID:-//Australian Chess Federation Inc. - ECPv6.8.3//NONSGML v1.0//EN
CALSCALE:GREGORIAN
METHOD:PUBLISH
X-WR-CALNAME:Australian Chess Federation Inc.
X-ORIGINAL-URL:https://auschess.org.au
X-WR-CALDESC:Events for Australian Chess Federation Inc.
REFRESH-INTERVAL;VALUE=DURATION:PT1H
X-Robots-Tag:noindex
X-PUBLISHED-TTL:PT1H
BEGIN:VTIMEZONE
TZID:Australia/Sydney
BEGIN:STANDARD
TZOFFSETFROM:+1100
TZOFFSETTO:+1000
TZNAME:AEST
DTSTART:20190406T160000
END:STANDARD
BEGIN:DAYLIGHT
TZOFFSETFROM:+1000
TZOFFSETTO:+1100
TZNAME:AEDT
DTSTART:20191005T160000
END:DAYLIGHT
END:VTIMEZONE
BEGIN:VEVENT
DTSTART;VALUE=DATE:20190708
DTEND;VALUE=DATE:20190713
DTSTAMP:20260425T063403
CREATED:20181004T164932Z
LAST-MODIFIED:20181004T164932Z
UID:1404-1562544000-1562975999@auschess.org.au
SUMMARY:Norfolk Island Convict's Chess Challenge
DESCRIPTION:Go See Touring invites chess players to the inaugural Norfolk Island Convict’s Chess Challenge!  Come along and experience the beauty of this Pacific Island paradise and the opportunity to compete in this friendly competition.  Prizes $ to be won!  Only a 2-hour flight away\, Norfolk Island offers lots to see & do\, stunning scenery\, sandy beaches and jagged cliffs.  Rich in history and culture\, Norfolk Island is the perfect destination to combine Chess with a relaxing holiday!
URL:https://auschess.org.au/event/norfolk-island-convicts-chess-challenge/
LOCATION:Paradise Resort & Hotel\, Shortridge Road\, Norfolk Island\, Australia
CATEGORIES:State / Other Events
END:VEVENT
BEGIN:VEVENT
DTSTART;VALUE=DATE:20190709
DTEND;VALUE=DATE:20190710
DTSTAMP:20260425T063403
CREATED:20181219T104152Z
LAST-MODIFIED:20181219T104152Z
UID:1582-1562630400-1562716799@auschess.org.au
SUMMARY:July Blitz 2019
DESCRIPTION:
URL:https://auschess.org.au/event/july-blitz-2019/
LOCATION:SA Chess Centre\, 10 Ranelagh Street\, Adelaide\, SA\, 5000\, Australia
CATEGORIES:State / Other Events
ORGANIZER;CN="SACA Tournaments Director":MAILTO:tournaments@sachess.org.au
END:VEVENT
END:VCALENDAR