BEGIN:VCALENDAR
VERSION:2.0
PRODID:-//Australian Chess Federation Inc. - ECPv6.8.3//NONSGML v1.0//EN
CALSCALE:GREGORIAN
METHOD:PUBLISH
X-WR-CALNAME:Australian Chess Federation Inc.
X-ORIGINAL-URL:https://auschess.org.au
X-WR-CALDESC:Events for Australian Chess Federation Inc.
REFRESH-INTERVAL;VALUE=DURATION:PT1H
X-Robots-Tag:noindex
X-PUBLISHED-TTL:PT1H
BEGIN:VTIMEZONE
TZID:Australia/Sydney
BEGIN:STANDARD
TZOFFSETFROM:+1100
TZOFFSETTO:+1000
TZNAME:AEST
DTSTART:20190406T160000
END:STANDARD
BEGIN:DAYLIGHT
TZOFFSETFROM:+1000
TZOFFSETTO:+1100
TZNAME:AEDT
DTSTART:20191005T160000
END:DAYLIGHT
END:VTIMEZONE
BEGIN:VEVENT
DTSTART;VALUE=DATE:20190210
DTEND;VALUE=DATE:20190211
DTSTAMP:20260425T130417
CREATED:20181219T073356Z
LAST-MODIFIED:20181219T073356Z
UID:1534-1549756800-1549843199@auschess.org.au
SUMMARY:SACA AGM
DESCRIPTION:
URL:https://auschess.org.au/event/saca-agm/
LOCATION:SA Chess Centre\, 10 Ranelagh Street\, Adelaide\, SA\, 5000\, Australia
CATEGORIES:State / Other Events
ORGANIZER;CN="SACA Tournaments Director":MAILTO:tournaments@sachess.org.au
END:VEVENT
END:VCALENDAR