BEGIN:VCALENDAR
VERSION:2.0
PRODID:-//Australian Chess Federation Inc. - ECPv6.8.3//NONSGML v1.0//EN
CALSCALE:GREGORIAN
METHOD:PUBLISH
X-ORIGINAL-URL:https://auschess.org.au
X-WR-CALDESC:Events for Australian Chess Federation Inc.
REFRESH-INTERVAL;VALUE=DURATION:PT1H
X-Robots-Tag:noindex
X-PUBLISHED-TTL:PT1H
BEGIN:VTIMEZONE
TZID:Australia/Sydney
BEGIN:STANDARD
TZOFFSETFROM:+1100
TZOFFSETTO:+1000
TZNAME:AEST
DTSTART:20240406T160000
END:STANDARD
BEGIN:DAYLIGHT
TZOFFSETFROM:+1000
TZOFFSETTO:+1100
TZNAME:AEDT
DTSTART:20241005T160000
END:DAYLIGHT
END:VTIMEZONE
BEGIN:VEVENT
DTSTART;VALUE=DATE:20240607
DTEND;VALUE=DATE:20240611
DTSTAMP:20260421T194859
CREATED:20240515T083515Z
LAST-MODIFIED:20240515T083641Z
UID:3888-1717718400-1718063999@auschess.org.au
SUMMARY:2024 NSW Open
DESCRIPTION:The NSW Chess Association has great pleasure in inviting entries to the NSW Open\, the premier weekender in NSW. There are outstanding prizes on offer\, with the Minor boasting the richest prize-pool for U1600s in Australia. We look forward to seeing you there!
URL:https://auschess.org.au/event/2024-nsw-open/
LOCATION:Novotel Sydney West HQ\, 55 Sherbrooke Street\, Rooty Hill\, NSW\, 2766\, Australia
CATEGORIES:State / Other Events
END:VEVENT
BEGIN:VEVENT
DTSTART;TZID=Australia/Sydney:20240611T080000
DTEND;TZID=Australia/Sydney:20240827T170000
DTSTAMP:20260421T194859
CREATED:20240607T013339Z
LAST-MODIFIED:20240607T013837Z
UID:3923-1718092800-1724778000@auschess.org.au
SUMMARY:2024 Rooty Hill Open Championships
DESCRIPTION:10 Round Swiss using FIDE Endorsed Baku Acceleration \nTime Control:\n90 minutes + 30 seconds per move \nTotal Prize Money: $2\,250 split into Overall\, Junior\, and Rating Categories.
URL:https://auschess.org.au/event/2024-rooty-hill-open-championships/
LOCATION:West HQ\, 55 Sherbrooke Street\, Rooty Hill\, NSW\, 2023\, Australia
CATEGORIES:State / Other Events
END:VEVENT
END:VCALENDAR