BEGIN:VCALENDAR
VERSION:2.0
PRODID:-//Australian Chess Federation Inc. - ECPv6.8.3//NONSGML v1.0//EN
CALSCALE:GREGORIAN
METHOD:PUBLISH
X-WR-CALNAME:Australian Chess Federation Inc.
X-ORIGINAL-URL:https://auschess.org.au
X-WR-CALDESC:Events for Australian Chess Federation Inc.
REFRESH-INTERVAL;VALUE=DURATION:PT1H
X-Robots-Tag:noindex
X-PUBLISHED-TTL:PT1H
BEGIN:VTIMEZONE
TZID:Australia/Sydney
BEGIN:STANDARD
TZOFFSETFROM:+1100
TZOFFSETTO:+1000
TZNAME:AEST
DTSTART:20230401T160000
END:STANDARD
BEGIN:DAYLIGHT
TZOFFSETFROM:+1000
TZOFFSETTO:+1100
TZNAME:AEDT
DTSTART:20230930T160000
END:DAYLIGHT
END:VTIMEZONE
BEGIN:VEVENT
DTSTART;VALUE=DATE:20230902
DTEND;VALUE=DATE:20230904
DTSTAMP:20260422T090345
CREATED:20230621T024200Z
LAST-MODIFIED:20230621T024200Z
UID:3598-1693612800-1693785599@auschess.org.au
SUMMARY:Arianne Caoili Memorial Rapid 2023
DESCRIPTION:2023 Arianne Caoili Memorial Rapid
URL:https://auschess.org.au/event/arianne-caoili-memorial-rapid-2023/
LOCATION:Broabeach Cultural Centre\, 61 Sunshine Bvde\, Broadbeach Waters\, QLD\, 4218\, Australia
CATEGORIES:State / Other Events
ORGANIZER;CN="Matt J Smith":MAILTO:goldcoastchess@gmail.com
END:VEVENT
BEGIN:VEVENT
DTSTART;TZID=Australia/Sydney:20230909T080000
DTEND;TZID=Australia/Sydney:20230910T170000
DTSTAMP:20260422T090345
CREATED:20230315T013009Z
LAST-MODIFIED:20230402T100619Z
UID:3535-1694246400-1694365200@auschess.org.au
SUMMARY:New England Open 2023
DESCRIPTION:New-England-Open-2023-Final-v2
URL:https://auschess.org.au/event/new-england-open-2023/
LOCATION:Armidale Ex Services Memorial Club\, 137 Dumaresq St\, Armidale\, NSW\, 2350\, Australia
CATEGORIES:State / Other Events
ORGANIZER;CN="Chris Martin":MAILTO:chessinarmidale@gmail.com
END:VEVENT
BEGIN:VEVENT
DTSTART;VALUE=DATE:20230923
DTEND;VALUE=DATE:20230925
DTSTAMP:20260422T090345
CREATED:20230712T004954Z
LAST-MODIFIED:20230712T004954Z
UID:3606-1695427200-1695599999@auschess.org.au
SUMMARY:Leo Wilkinson Memorial 2023
DESCRIPTION:Leo-Wilkinson-Memorial-2023-entry-form
URL:https://auschess.org.au/event/leo-wilkinson-memorial-2023/
LOCATION:Grace Lutheran College\, Room F1\, Buchanan Street\, Rothwell\, QLD\, Australia
CATEGORIES:State / Other Events
ORGANIZER;CN="Mark C Stokes":MAILTO:markcstokes@hotmail.com
END:VEVENT
END:VCALENDAR