BEGIN:VCALENDAR
VERSION:2.0
PRODID:-//Australian Chess Federation Inc. - ECPv6.8.3//NONSGML v1.0//EN
CALSCALE:GREGORIAN
METHOD:PUBLISH
X-ORIGINAL-URL:https://auschess.org.au
X-WR-CALDESC:Events for Australian Chess Federation Inc.
REFRESH-INTERVAL;VALUE=DURATION:PT1H
X-Robots-Tag:noindex
X-PUBLISHED-TTL:PT1H
BEGIN:VTIMEZONE
TZID:Australia/Sydney
BEGIN:STANDARD
TZOFFSETFROM:+1100
TZOFFSETTO:+1000
TZNAME:AEST
DTSTART:20210403T160000
END:STANDARD
BEGIN:DAYLIGHT
TZOFFSETFROM:+1000
TZOFFSETTO:+1100
TZNAME:AEDT
DTSTART:20211002T160000
END:DAYLIGHT
END:VTIMEZONE
BEGIN:VEVENT
DTSTART;TZID=Australia/Sydney:20210628T000000
DTEND;TZID=Australia/Sydney:20210809T000000
DTSTAMP:20260423T195045
CREATED:20210614T071301Z
LAST-MODIFIED:20210614T071301Z
UID:3065-1624838400-1628467200@auschess.org.au
SUMMARY:MCC Edwin Malitis Memorials
DESCRIPTION:
URL:https://auschess.org.au/event/mcc-edwin-malitis-memorials/
LOCATION:VIC
CATEGORIES:State / Other Events
END:VEVENT
BEGIN:VEVENT
DTSTART;TZID=Australia/Sydney:20210701T000000
DTEND;TZID=Australia/Sydney:20210704T000000
DTSTAMP:20260423T195045
CREATED:20210614T071301Z
LAST-MODIFIED:20210630T004825Z
UID:3051-1625097600-1625356800@auschess.org.au
SUMMARY:Gold Coast Open - Cancelled
DESCRIPTION:
URL:https://auschess.org.au/event/gold-coast-open-2/
LOCATION:VIC
CATEGORIES:State / Other Events
END:VEVENT
BEGIN:VEVENT
DTSTART;TZID=Australia/Sydney:20210705T000000
DTEND;TZID=Australia/Sydney:20210709T000000
DTSTAMP:20260423T195045
CREATED:20210614T071301Z
LAST-MODIFIED:20210630T005553Z
UID:3066-1625443200-1625788800@auschess.org.au
SUMMARY:Victorian Junior Championship
DESCRIPTION:2021 VICTORIAN JUNIOR CHESS CHAMPIONSHIP \nPlaying Venue: Glen Waverley Secondary College School. O’sullivan Rd\, Glen Waverley VIC 3150 \nUnder 8\, Under 10\, boys and girls\n__________________________________________________\nU8 and U10 Players\nA Parent or Designated Guardian – MUST BE immediately available outside the building in close contact during the entire tournament Mon 5th July & Tue 6th July:\nName of Parent or Designated Guardian………………………………………….. ……….\nContact Number: ………………………………………….. …………………………………….\nIf the parent of the U8 and U10 child cannot guarantee the availability\, the child MUST NOT enter the tournament\n__________________________________________________ ___ \nSchedule: Monday July 5\, Round 1: 9.30 Round 2: 11.30 Round 3: 13.30 Round 4: 15:30 Tuesday July 6\, Round 5: 9.30 Round 6: 11.30 Round 7: 13.30\nPrize Giving: Tuesday July 6\, 15.30 or completion of last game\nRate of Play: 30 minutes plus 10 seconds from move one.\nSign In: Arrive from 8.30 am Day 1 Monday July 5\nNote: Some age groups may be required to be combined if there are insufficient numbers. Awarding of titles and trophies will be according to the ACF by-law\nByes: No half point byes are allowed. Players are expected to play all rounds.\nForfeit time: 30 minutes from the scheduled start\nEntry Fee:\nFee: $70 plus admin fee\nEntry closes on Sunday 4th July at noon\nNO ENTRY WILL BE ACCEPTED AFTER SUNDAY 4TH JULY NOON\nEntries via TryBooking: https://www.trybooking.com/events/landing?eid=761482&\nEnquiries: Peter Tsai Telephone: 0419 324 870 E-mail: chess@t-s-a-i.com\nPrizes: Cash\, chess books\, trophies. Age Group winners receive free entry to the next Australian Junior Chess Championship\nRecording of moves: Players are required to record their moves during each game.\nHow to record moves? Go to this link: https://www.chessstrategyonline.com/…chess-notation \nUnder 12\, Under 14\, Under 16\, Under 18 boys and girls\nSchedule: Monday 5 July\, Round 1: 9.30\, Round 2: 13.30\nTuesday 6 July\, Round 3: 9.30\, Round 4: 13.30\nWednesday 7 July\, Round 5: 9.30\, Round 6: 13.30\nThursday 8 July\, Round 7: 9.30\nPrize Giving: Thursday 8 July\, 13.30 or completion of the last game\nRate of Play: 60 minutes plus 30 seconds from move one.\nSign In: Arrive from 8.30 am Day 1 Monday July 5\nNote: Some age groups may be required to be combined if there are insufficient numbers. Awarding of titles and trophies will be according to the ACF by-law\nByes: No half point byes are allowed. Players are expected to play all rounds.\nForfeit time: 30 minutes from the scheduled start\nRatings: Games will be rated on ACF Ratings\nRanking: The following order will be used: ACF Classic\, ACF Rapid & then Arbiter’s discretion\nEntry Fee:\nFee: $70 plus admin fee\nEntry closes on Sunday 4th July at noon\nNO ENTRY WILL BE ACCEPTED AFTER SUNDAY 4TH JULY NOON\nEntries via TryBooking: https://www.trybooking.com/events/landing?eid=761482&\nEnquiries: Peter Tsai Telephone: 0419 324 870 E-mail: chess@t-s-a-i.com\nPrizes: Cash\, chess books\, trophies. Age Group winners receive free entry to the next Australian Junior Chess Championship\nRecording of moves: Players are required to record their moves during each game.\nHow to record moves? Go to this link: https://www.chessstrategyonline.com/…chess-notation \nAge Divisions:\nThe 2021 Victorian Junior Championships will determine holders of the following titles:\nAge-Group: The Open and Girls only tournaments will be separate tournaments.\n• For girls\, they can elect to play in the Girls only or open tournament but not both.\n• For boys and girls\, they can elect to play in an older age-group.\nDivisions available:\nOpen U8 U10 U12 U14 U16 U18\nGirls U8 U10 U12 U14 U16 U18 \nAge Divisions:\n• Under-18 : Year of birth 2003 or after\n• Under-16: Year of birth 2005 or after\n• Under-14 : Year of birth 2007 or after\n• Under-12 : Year of birth 2009 or after\n• Under-10: Year of birth 2011 or after\n• Under-8 : Year of birth 2013 or after \nDrop off by parents/ guardians (Day 1 from 8:30 am):\n• Public Parking – enter from Snedden Drive\n• Enter via Sneddon Drive car park\n• Please drop off for junior players at the entrance of the building (there will be signs on the day directing you)\n• A COVID Officer will be asking a few questions regarding the player’s health.\n• Please scan the QR code to register attendance at the tournament every day. If you are unable to scan the code\, a manual record will be available for you to fill in.\n• Parents or visitors will not be allowed in the building.\n• Players will be told which room they will be allocated to play their 1st round game\n• Parents can pick up the players at the end of each round \nEnquires: Peter Tsai chess@t-s-a-i.com 0419324870
URL:https://auschess.org.au/event/victorian-junior-championship/
LOCATION:VIC
CATEGORIES:State / Other Events
ORGANIZER;CN="Peter Tsai":MAILTO:chess@t-s-a-i.com
END:VEVENT
BEGIN:VEVENT
DTSTART;TZID=Australia/Sydney:20210706T000000
DTEND;TZID=Australia/Sydney:20210706T000000
DTSTAMP:20260423T195045
CREATED:20210614T071301Z
LAST-MODIFIED:20210614T071301Z
UID:3052-1625529600-1625529600@auschess.org.au
SUMMARY:Queensland Juniors under 8
DESCRIPTION:
URL:https://auschess.org.au/event/queensland-juniors-under-8/
LOCATION:VIC
CATEGORIES:State / Other Events
END:VEVENT
BEGIN:VEVENT
DTSTART;TZID=Australia/Sydney:20210706T000000
DTEND;TZID=Australia/Sydney:20210709T000000
DTSTAMP:20260423T195045
CREATED:20210614T071301Z
LAST-MODIFIED:20210614T071301Z
UID:3053-1625529600-1625788800@auschess.org.au
SUMMARY:Queensland Juniors under 14 to under 18
DESCRIPTION:
URL:https://auschess.org.au/event/queensland-juniors-under-14-to-under-18/
LOCATION:VIC
CATEGORIES:State / Other Events
END:VEVENT
BEGIN:VEVENT
DTSTART;TZID=Australia/Sydney:20210707T000000
DTEND;TZID=Australia/Sydney:20210707T000000
DTSTAMP:20260423T195045
CREATED:20210614T071301Z
LAST-MODIFIED:20210614T071301Z
UID:3054-1625616000-1625616000@auschess.org.au
SUMMARY:Queensland Juniors under 10
DESCRIPTION:
URL:https://auschess.org.au/event/queensland-juniors-under-10/
LOCATION:VIC
CATEGORIES:State / Other Events
END:VEVENT
BEGIN:VEVENT
DTSTART;TZID=Australia/Sydney:20210708T000000
DTEND;TZID=Australia/Sydney:20210708T000000
DTSTAMP:20260423T195045
CREATED:20210614T071301Z
LAST-MODIFIED:20210614T071301Z
UID:3055-1625702400-1625702400@auschess.org.au
SUMMARY:Queensland Juniors under 12
DESCRIPTION:
URL:https://auschess.org.au/event/queensland-juniors-under-12/
LOCATION:VIC
CATEGORIES:State / Other Events
END:VEVENT
BEGIN:VEVENT
DTSTART;TZID=Australia/Sydney:20210709T000000
DTEND;TZID=Australia/Sydney:20210709T000000
DTSTAMP:20260423T195045
CREATED:20210614T071319Z
LAST-MODIFIED:20210614T071319Z
UID:3077-1625788800-1625788800@auschess.org.au
SUMMARY:WA Junior Allegro Championship
DESCRIPTION:
URL:https://auschess.org.au/event/wa-junior-allegro-championship-2/
LOCATION:VIC
CATEGORIES:State / Other Events
END:VEVENT
BEGIN:VEVENT
DTSTART;TZID=Australia/Sydney:20210711T000000
DTEND;TZID=Australia/Sydney:20210912T000000
DTSTAMP:20260423T195045
CREATED:20210614T071301Z
LAST-MODIFIED:20210630T005448Z
UID:3067-1625961600-1631404800@auschess.org.au
SUMMARY:Victorian Championship
DESCRIPTION:The 2021 Victorian Championship \nChess Victoria Presents The 2021 Victorian Championship \nFormat: Swiss Tournament 9 rounds\nVenue: Box Hill Chess Club (21A Electra Avenue\, Ashwood)\nEligibility: Top 24 Victorian players based on the June 1/2021 Australian Chess Federation rating list.\nRate of play: All moves in 90 minutes + 30 seconds per move increment from move 1\nRatings: Event will be rated on ACF & FIDE rating lists\nForfeit time: 30 minutes after scheduled start time\nByes: 2 half point byes may be taken in rounds 1 to 7\nEntry Fees: $75 full; $50 concession; GMs\, IMs\, WGMs & WIMs free;\nPayments: TryBooking. For players that do not make the cut\, entry fee will be refunded via TryBooking\nTryBooking: https://www.trybooking.com/BRPDD\nEnquiries: by e-mail to the Tournament Director Leonid Sandler leonidsandlerchess@gmail.com\nEntries for Championship close on Friday 9th July 5 pm.\nPrizes: 1st $1000\, 2nd $500\, 3rd $300\, 4th $200.\nPlayoff: In case of two players sharing first place a play-off match for the State title will be arranged. The playoff will be over two games with Championship time control and in case of a tie two rapid games\, if still tied two blitz games and if still tied an Armageddon game. In case of 3 or more players tying for first place a round -robin tournament for the title will be arranged. \nSchedule:\nRound 1 July 11 6:30 pm\nRound 2 July 18 5:00 pm\nRound 3 July 25 5:00 pm\nRound 4 August 1 5:00 pm\nRound 5 August 8 6:30 pm\nRound 6 August 15 5:00 pm\nRound 7 August 22 5:00 pm\nRound 8 Sept 5 5:00 pm\nRound 9 Sept 12 6:30 pm\nStarting time: 5:00 pm except July 11\, August 8\, September 12 which will start at 6:30 pm
URL:https://auschess.org.au/event/victorian-championship/
LOCATION:VIC
CATEGORIES:State / Other Events
ORGANIZER;CN="Leonid Sandler":MAILTO:leonidsandlerchess@gmail.com
END:VEVENT
BEGIN:VEVENT
DTSTART;TZID=Australia/Sydney:20210712T000000
DTEND;TZID=Australia/Sydney:20210715T000000
DTSTAMP:20260423T195045
CREATED:20210614T071319Z
LAST-MODIFIED:20210614T071319Z
UID:3078-1626048000-1626307200@auschess.org.au
SUMMARY:State Junior Championships
DESCRIPTION:
URL:https://auschess.org.au/event/state-junior-championships/
LOCATION:VIC
CATEGORIES:State / Other Events
END:VEVENT
BEGIN:VEVENT
DTSTART;TZID=Australia/Sydney:20210718T000000
DTEND;TZID=Australia/Sydney:20210718T000000
DTSTAMP:20260423T195045
CREATED:20210614T071301Z
LAST-MODIFIED:20210614T071301Z
UID:3049-1626566400-1626566400@auschess.org.au
SUMMARY:NSW Rapid
DESCRIPTION:
URL:https://auschess.org.au/event/nsw-rapid/
LOCATION:VIC
CATEGORIES:State / Other Events
END:VEVENT
BEGIN:VEVENT
DTSTART;TZID=Australia/Sydney:20210725T000000
DTEND;TZID=Australia/Sydney:20210725T000000
DTSTAMP:20260423T195045
CREATED:20210614T071319Z
LAST-MODIFIED:20210614T071319Z
UID:3079-1627171200-1627171200@auschess.org.au
SUMMARY:Winter Rapid Championship
DESCRIPTION:
URL:https://auschess.org.au/event/winter-rapid-championship/
LOCATION:VIC
CATEGORIES:State / Other Events
END:VEVENT
BEGIN:VEVENT
DTSTART;TZID=Australia/Sydney:20210731T000000
DTEND;TZID=Australia/Sydney:20210801T000000
DTSTAMP:20260423T195045
CREATED:20210614T071319Z
LAST-MODIFIED:20210614T071319Z
UID:3080-1627689600-1627776000@auschess.org.au
SUMMARY:South-West Open
DESCRIPTION:
URL:https://auschess.org.au/event/south-west-open/
LOCATION:VIC
CATEGORIES:State / Other Events
END:VEVENT
END:VCALENDAR