BEGIN:VCALENDAR
VERSION:2.0
PRODID:-//Australian Chess Federation Inc. - ECPv6.8.3//NONSGML v1.0//EN
CALSCALE:GREGORIAN
METHOD:PUBLISH
X-WR-CALNAME:Australian Chess Federation Inc.
X-ORIGINAL-URL:https://auschess.org.au
X-WR-CALDESC:Events for Australian Chess Federation Inc.
REFRESH-INTERVAL;VALUE=DURATION:PT1H
X-Robots-Tag:noindex
X-PUBLISHED-TTL:PT1H
BEGIN:VTIMEZONE
TZID:Australia/Sydney
BEGIN:STANDARD
TZOFFSETFROM:+1100
TZOFFSETTO:+1000
TZNAME:AEST
DTSTART:20210403T160000
END:STANDARD
BEGIN:DAYLIGHT
TZOFFSETFROM:+1000
TZOFFSETTO:+1100
TZNAME:AEDT
DTSTART:20211002T160000
END:DAYLIGHT
END:VTIMEZONE
BEGIN:VEVENT
DTSTART;TZID=Australia/Sydney:20210306T080000
DTEND;TZID=Australia/Sydney:20210308T170000
DTSTAMP:20260424T014209
CREATED:20201222T035246Z
LAST-MODIFIED:20201222T035531Z
UID:2647-1615017600-1615222800@auschess.org.au
SUMMARY:55th Ballarat Begonia Open 2021
DESCRIPTION:The Ballarat Begonia Open is a favourite amongst Australia’s chess players. Some of Australia’s GMs\, and many IMs and FMs have expressed interest in competing\, as well as our regular cohort of supporters. GM Ian Rogers will provide Live Commentary again as it proved so popular in previous years. Peter Tsai will be our chief arbiter.
URL:https://auschess.org.au/event/55th-ballarat-begonia-open-2021/
LOCATION:Ballarat Tech School\, 136 Albert St\, Ballarat\, VIC\, 3350\, Australia
CATEGORIES:State / Other Events
ORGANIZER;CN="Kevin Perrin":MAILTO:kevinp@ppt.com.au
END:VEVENT
END:VCALENDAR