BEGIN:VCALENDAR
VERSION:2.0
PRODID:-//Australian Chess Federation Inc. - ECPv6.8.3//NONSGML v1.0//EN
CALSCALE:GREGORIAN
METHOD:PUBLISH
X-WR-CALNAME:Australian Chess Federation Inc.
X-ORIGINAL-URL:https://auschess.org.au
X-WR-CALDESC:Events for Australian Chess Federation Inc.
REFRESH-INTERVAL;VALUE=DURATION:PT1H
X-Robots-Tag:noindex
X-PUBLISHED-TTL:PT1H
BEGIN:VTIMEZONE
TZID:Australia/Sydney
BEGIN:STANDARD
TZOFFSETFROM:+1100
TZOFFSETTO:+1000
TZNAME:AEST
DTSTART:20200404T160000
END:STANDARD
BEGIN:DAYLIGHT
TZOFFSETFROM:+1000
TZOFFSETTO:+1100
TZNAME:AEDT
DTSTART:20201003T160000
END:DAYLIGHT
END:VTIMEZONE
BEGIN:VEVENT
DTSTART;TZID=Australia/Sydney:20200803T193000
DTEND;TZID=Australia/Sydney:20200803T193000
DTSTAMP:20260424T111640
CREATED:20200209T004802Z
LAST-MODIFIED:20200523T024021Z
UID:2272-1596483000-1596483000@auschess.org.au
SUMMARY:Rooty Hill Open - Cancelled
DESCRIPTION:9 round FIDE rated Open 90 mins plus 30 seconds per move.
URL:https://auschess.org.au/event/rooty-hill-open-2020-08-03/
LOCATION:Rooty Hill RSL\, Sherbrooke St\, Rooty Hill\, NSW\, 2766\, Australia
CATEGORIES:State / Other Events
ORGANIZER;CN="Peter Cassettari":MAILTO:pcass1@live.com.au
END:VEVENT
BEGIN:VEVENT
DTSTART;TZID=Australia/Sydney:20200810T193000
DTEND;TZID=Australia/Sydney:20200810T193000
DTSTAMP:20260424T111640
CREATED:20200209T004802Z
LAST-MODIFIED:20200523T024021Z
UID:2273-1597087800-1597087800@auschess.org.au
SUMMARY:Rooty Hill Open - Cancelled
DESCRIPTION:9 round FIDE rated Open 90 mins plus 30 seconds per move.
URL:https://auschess.org.au/event/rooty-hill-open-2020-08-10/
LOCATION:Rooty Hill RSL\, Sherbrooke St\, Rooty Hill\, NSW\, 2766\, Australia
CATEGORIES:State / Other Events
ORGANIZER;CN="Peter Cassettari":MAILTO:pcass1@live.com.au
END:VEVENT
BEGIN:VEVENT
DTSTART;TZID=Australia/Sydney:20200829T123000
DTEND;TZID=Australia/Sydney:20200830T170000
DTSTAMP:20260424T111640
CREATED:20200818T082704Z
LAST-MODIFIED:20200818T082907Z
UID:2478-1598704200-1598806800@auschess.org.au
SUMMARY:2020 Tasmanian Open
DESCRIPTION:6 round Swiss. 60 minutes plus 10 seconds per move per player from move 1. \nENTRIES:  \nAll competitors MUST enter online using the digital registration form. \nEntries close at 5pm on Thursday the 27th of August. \nA $10 early bird discount will be applied to all entries if registration is received on or before Saturday the 22nd. of August.
URL:https://auschess.org.au/event/2020-tasmanian-open/
LOCATION:Stella Maris Primary School\, 28 Futuna Avenue\, Park Grove\, TAS\, 7320\, Australia
CATEGORIES:State / Other Events
END:VEVENT
END:VCALENDAR