BEGIN:VCALENDAR
VERSION:2.0
PRODID:-//Australian Chess Federation Inc. - ECPv6.8.3//NONSGML v1.0//EN
CALSCALE:GREGORIAN
METHOD:PUBLISH
X-ORIGINAL-URL:https://auschess.org.au
X-WR-CALDESC:Events for Australian Chess Federation Inc.
REFRESH-INTERVAL;VALUE=DURATION:PT1H
X-Robots-Tag:noindex
X-PUBLISHED-TTL:PT1H
BEGIN:VTIMEZONE
TZID:Australia/Sydney
BEGIN:STANDARD
TZOFFSETFROM:+1100
TZOFFSETTO:+1000
TZNAME:AEST
DTSTART:20200404T160000
END:STANDARD
BEGIN:DAYLIGHT
TZOFFSETFROM:+1000
TZOFFSETTO:+1100
TZNAME:AEDT
DTSTART:20201003T160000
END:DAYLIGHT
END:VTIMEZONE
BEGIN:VEVENT
DTSTART;VALUE=DATE:20200409
DTEND;VALUE=DATE:20200414
DTSTAMP:20260424T160453
CREATED:20200226T102526Z
LAST-MODIFIED:20200226T102526Z
UID:2287-1586390400-1586822399@auschess.org.au
SUMMARY:2020 Doeberl Cup
DESCRIPTION:The Doeberl Cup is the longest running weekend chess event in Australia. Since 1963 it has been held every year in Canberra\, Australia. Grandmaster Ian Rogers holds the record for the most number of wins (either outright or on tie-break) with 12. \nThe Doeberl Cup was named after its primary sponsor\, Erich Doeberl. \nThis year’s event runs from the 9th to the 13th April. \nSo far 83 players have registered\, including 6 GMs with current top seed 2020 Australian Champion GM Timur Kuybokarov and 2019 Doeberl Cup winning GM Hrant Melkumyan from Armenia taking part.
URL:https://auschess.org.au/event/2020-doeberl-cup/
LOCATION:VENUE Canberra Southern Cross Club Woden\, 92-96 Corinna Street\, Woden\, ACT\, 2606\, Australia
CATEGORIES:State / Other Events
ORGANIZER;CN="ACT Chess Association":MAILTO:shaunpress@gmail.com
END:VEVENT
END:VCALENDAR