BEGIN:VCALENDAR
VERSION:2.0
PRODID:-//Australian Chess Federation Inc. - ECPv6.8.3//NONSGML v1.0//EN
CALSCALE:GREGORIAN
METHOD:PUBLISH
X-WR-CALNAME:Australian Chess Federation Inc.
X-ORIGINAL-URL:https://auschess.org.au
X-WR-CALDESC:Events for Australian Chess Federation Inc.
REFRESH-INTERVAL;VALUE=DURATION:PT1H
X-Robots-Tag:noindex
X-PUBLISHED-TTL:PT1H
BEGIN:VTIMEZONE
TZID:Australia/Sydney
BEGIN:STANDARD
TZOFFSETFROM:+1100
TZOFFSETTO:+1000
TZNAME:AEST
DTSTART:20190406T160000
END:STANDARD
BEGIN:DAYLIGHT
TZOFFSETFROM:+1000
TZOFFSETTO:+1100
TZNAME:AEDT
DTSTART:20191005T160000
END:DAYLIGHT
END:VTIMEZONE
BEGIN:VEVENT
DTSTART;VALUE=DATE:20190503
DTEND;VALUE=DATE:20190507
DTSTAMP:20260425T063135
CREATED:20181214T040113Z
LAST-MODIFIED:20181214T040113Z
UID:1498-1556841600-1557187199@auschess.org.au
SUMMARY:Aivars Gipslis Memorial 2019
DESCRIPTION:
URL:https://auschess.org.au/event/aivars-gipslis-memorial-2019/
LOCATION:VIC
CATEGORIES:State / Other Events
END:VEVENT
BEGIN:VEVENT
DTSTART;VALUE=DATE:20190507
DTEND;VALUE=DATE:20190508
DTSTAMP:20260425T063135
CREATED:20181219T074332Z
LAST-MODIFIED:20181219T074332Z
UID:1568-1557187200-1557273599@auschess.org.au
SUMMARY:SACA Interclub Teams Tournament
DESCRIPTION:
URL:https://auschess.org.au/event/saca-interclub-teams-tournament-2019-05-07/
LOCATION:SA Chess Centre\, 10 Ranelagh Street\, Adelaide\, SA\, 5000\, Australia
CATEGORIES:State / Other Events
ORGANIZER;CN="SACA Tournaments Director":MAILTO:tournaments@sachess.org.au
END:VEVENT
BEGIN:VEVENT
DTSTART;VALUE=DATE:20190514
DTEND;VALUE=DATE:20190515
DTSTAMP:20260425T063135
CREATED:20181219T074332Z
LAST-MODIFIED:20181219T074332Z
UID:1569-1557792000-1557878399@auschess.org.au
SUMMARY:SACA Interclub Teams Tournament
DESCRIPTION:
URL:https://auschess.org.au/event/saca-interclub-teams-tournament-2019-05-14/
LOCATION:SA Chess Centre\, 10 Ranelagh Street\, Adelaide\, SA\, 5000\, Australia
CATEGORIES:State / Other Events
ORGANIZER;CN="SACA Tournaments Director":MAILTO:tournaments@sachess.org.au
END:VEVENT
BEGIN:VEVENT
DTSTART;VALUE=DATE:20190521
DTEND;VALUE=DATE:20190522
DTSTAMP:20260425T063135
CREATED:20181219T074332Z
LAST-MODIFIED:20181219T074332Z
UID:1570-1558396800-1558483199@auschess.org.au
SUMMARY:SACA Interclub Teams Tournament
DESCRIPTION:
URL:https://auschess.org.au/event/saca-interclub-teams-tournament-2019-05-21/
LOCATION:SA Chess Centre\, 10 Ranelagh Street\, Adelaide\, SA\, 5000\, Australia
CATEGORIES:State / Other Events
ORGANIZER;CN="SACA Tournaments Director":MAILTO:tournaments@sachess.org.au
END:VEVENT
BEGIN:VEVENT
DTSTART;VALUE=DATE:20190528
DTEND;VALUE=DATE:20190529
DTSTAMP:20260425T063135
CREATED:20181219T074332Z
LAST-MODIFIED:20181219T074332Z
UID:1571-1559001600-1559087999@auschess.org.au
SUMMARY:SACA Interclub Teams Tournament
DESCRIPTION:
URL:https://auschess.org.au/event/saca-interclub-teams-tournament-2019-05-28/
LOCATION:SA Chess Centre\, 10 Ranelagh Street\, Adelaide\, SA\, 5000\, Australia
CATEGORIES:State / Other Events
ORGANIZER;CN="SACA Tournaments Director":MAILTO:tournaments@sachess.org.au
END:VEVENT
END:VCALENDAR