BEGIN:VCALENDAR
VERSION:2.0
PRODID:-//Australian Chess Federation Inc. - ECPv6.8.3//NONSGML v1.0//EN
CALSCALE:GREGORIAN
METHOD:PUBLISH
X-WR-CALNAME:Australian Chess Federation Inc.
X-ORIGINAL-URL:https://auschess.org.au
X-WR-CALDESC:Events for Australian Chess Federation Inc.
REFRESH-INTERVAL;VALUE=DURATION:PT1H
X-Robots-Tag:noindex
X-PUBLISHED-TTL:PT1H
BEGIN:VTIMEZONE
TZID:Australia/Sydney
BEGIN:STANDARD
TZOFFSETFROM:+1100
TZOFFSETTO:+1000
TZNAME:AEST
DTSTART:20190406T160000
END:STANDARD
BEGIN:DAYLIGHT
TZOFFSETFROM:+1000
TZOFFSETTO:+1100
TZNAME:AEDT
DTSTART:20191005T160000
END:DAYLIGHT
END:VTIMEZONE
BEGIN:VEVENT
DTSTART;VALUE=DATE:20190810
DTEND;VALUE=DATE:20190812
DTSTAMP:20260424T145058
CREATED:20190811T015849Z
LAST-MODIFIED:20190811T015849Z
UID:1894-1565395200-1565567999@auschess.org.au
SUMMARY:NSWCA August Weekender 2019
DESCRIPTION:
URL:https://auschess.org.au/event/nswca-august-weekender-2019/
LOCATION:Norths\, 12 Abbott Street\, Cammeray\, NSW\, 2062\, Australia
CATEGORIES:ACF Grand Prix
END:VEVENT
BEGIN:VEVENT
DTSTART;TZID=Australia/Sydney:20190810T110000
DTEND;TZID=Australia/Sydney:20190811T131000
DTSTAMP:20260424T145058
CREATED:20190404T165656Z
LAST-MODIFIED:20190420T061727Z
UID:1738-1565434800-1565529000@auschess.org.au
SUMMARY:Bundaberg Open Weekender 2019
DESCRIPTION:
URL:https://auschess.org.au/event/bundaberg-open-weekender-2019/
LOCATION:Thabeban State School\, 270 Goodwood Rd\, Bundaberg\, QLD\, 4670\, Australia
CATEGORIES:ACF Grand Prix
ORGANIZER;CN="Martin Carter":MAILTO:bundabergchessclub18@ozemail.com.au
END:VEVENT
END:VCALENDAR