BEGIN:VCALENDAR
VERSION:2.0
PRODID:-//Australian Chess Federation Inc. - ECPv6.8.3//NONSGML v1.0//EN
CALSCALE:GREGORIAN
METHOD:PUBLISH
X-ORIGINAL-URL:https://auschess.org.au
X-WR-CALDESC:Events for Australian Chess Federation Inc.
REFRESH-INTERVAL;VALUE=DURATION:PT1H
X-Robots-Tag:noindex
X-PUBLISHED-TTL:PT1H
BEGIN:VTIMEZONE
TZID:Australia/Sydney
BEGIN:STANDARD
TZOFFSETFROM:+1100
TZOFFSETTO:+1000
TZNAME:AEST
DTSTART:20190406T160000
END:STANDARD
BEGIN:DAYLIGHT
TZOFFSETFROM:+1000
TZOFFSETTO:+1100
TZNAME:AEDT
DTSTART:20191005T160000
END:DAYLIGHT
END:VTIMEZONE
BEGIN:VEVENT
DTSTART;VALUE=DATE:20190309
DTEND;VALUE=DATE:20190312
DTSTAMP:20260424T212053
CREATED:20190104T143851Z
LAST-MODIFIED:20190104T143851Z
UID:1650-1552089600-1552348799@auschess.org.au
SUMMARY:53rd Ballarat Begonia Open
DESCRIPTION:The Ballarat Begonia Open is a favourite amongst Australia’s chess players. A new Under 1200 2 day tournament will also be held on the Sunday and Monday.\nGM Ian Rogers will provide Live Commentary again as it proved so popular in previous years. Peter Tsai will be our chief arbiter and we will be utilising the great facilities at Clarendon College. \nPlease visit the website for further details.
URL:https://auschess.org.au/event/53rd-ballarat-begonia-open/
LOCATION:Sewell Pavilion\, Ballarat Clarendon College\, 1425 Sturt Street\, Ballarat\, Ballarat\, VIC\, 3350\, Australia
CATEGORIES:ACF Grand Prix
ORGANIZER;CN="Kevin Perrin":MAILTO:kevinp@ppt.com.au
END:VEVENT
END:VCALENDAR