BEGIN:VCALENDAR
VERSION:2.0
PRODID:-//Australian Chess Federation Inc. - ECPv6.8.3//NONSGML v1.0//EN
CALSCALE:GREGORIAN
METHOD:PUBLISH
X-ORIGINAL-URL:https://auschess.org.au
X-WR-CALDESC:Events for Australian Chess Federation Inc.
REFRESH-INTERVAL;VALUE=DURATION:PT1H
X-Robots-Tag:noindex
X-PUBLISHED-TTL:PT1H
BEGIN:VTIMEZONE
TZID:Australia/Sydney
BEGIN:STANDARD
TZOFFSETFROM:+1100
TZOFFSETTO:+1000
TZNAME:AEST
DTSTART:20190406T160000
END:STANDARD
BEGIN:DAYLIGHT
TZOFFSETFROM:+1000
TZOFFSETTO:+1100
TZNAME:AEDT
DTSTART:20191005T160000
END:DAYLIGHT
END:VTIMEZONE
BEGIN:VEVENT
DTSTART;VALUE=DATE:20191130
DTEND;VALUE=DATE:20191202
DTSTAMP:20260424T083226
CREATED:20190609T212208Z
LAST-MODIFIED:20190609T212223Z
UID:1823-1575072000-1575244799@auschess.org.au
SUMMARY:Charm City Motel Open 2019
DESCRIPTION:
URL:https://auschess.org.au/event/charm-city-motel-open-2019/
LOCATION:Thabeban State School\, 270 Goodwood Rd\, Bundaberg\, QLD\, 4670\, Australia
CATEGORIES:ACF Grand Prix
ORGANIZER;CN="Martin Carter":MAILTO:bundabergchessclub18@ozemail.com.au
END:VEVENT
END:VCALENDAR