BEGIN:VCALENDAR
VERSION:2.0
PRODID:-//Australian Chess Federation Inc. - ECPv6.8.3//NONSGML v1.0//EN
CALSCALE:GREGORIAN
METHOD:PUBLISH
X-ORIGINAL-URL:https://auschess.org.au
X-WR-CALDESC:Events for Australian Chess Federation Inc.
REFRESH-INTERVAL;VALUE=DURATION:PT1H
X-Robots-Tag:noindex
X-PUBLISHED-TTL:PT1H
BEGIN:VTIMEZONE
TZID:Australia/Sydney
BEGIN:STANDARD
TZOFFSETFROM:+1100
TZOFFSETTO:+1000
TZNAME:AEST
DTSTART:20190406T160000
END:STANDARD
BEGIN:DAYLIGHT
TZOFFSETFROM:+1000
TZOFFSETTO:+1100
TZNAME:AEDT
DTSTART:20191005T160000
END:DAYLIGHT
END:VTIMEZONE
BEGIN:VEVENT
DTSTART;VALUE=DATE:20190406
DTEND;VALUE=DATE:20190408
DTSTAMP:20260424T183840
CREATED:20181208T115712Z
LAST-MODIFIED:20181208T122430Z
UID:1485-1554508800-1554681599@auschess.org.au
SUMMARY:2019 Wendy Terry Memorial
DESCRIPTION:End the term in style and warm up for the Doeberl Cup with the Wendy Terry Memorial!
URL:https://auschess.org.au/event/2019-wendy-terry-memorial/
LOCATION:Grace Lutheran College\, Room F1\, Buchanan Street\, Rothwell\, QLD\, Australia
CATEGORIES:ACF Grand Prix
ORGANIZER;CN="Queensland Women's Chess League":MAILTO:qwclqwcl@gmail.com
END:VEVENT
BEGIN:VEVENT
DTSTART;VALUE=DATE:20190423
DTEND;VALUE=DATE:20190429
DTSTAMP:20260424T183840
CREATED:20190214T011605Z
LAST-MODIFIED:20190523T223033Z
UID:1666-1555977600-1556495999@auschess.org.au
SUMMARY:Sydney International Open 2019
DESCRIPTION:The tournament is being hosted by the Macquarie University Chess Society\, with a prize pool of over $14\, 000. \nFacebook Page: https://www.facebook.com/Sydney-International-Open-341165919827543/ \nTwitter: https://twitter.com/open_sydney
URL:https://auschess.org.au/event/sydney-international-open-2019/
LOCATION:Macquarie University\, 18 Wally's Walk\, Macquarie Park\, NSW\, 2113\, Australia
CATEGORIES:ACF Grand Prix
ORGANIZER;CN="Paul Russell":MAILTO:Paul.Russell@students.mq.edu.au
END:VEVENT
END:VCALENDAR