BEGIN:VCALENDAR
VERSION:2.0
PRODID:-//Australian Chess Federation Inc. - ECPv6.8.3//NONSGML v1.0//EN
CALSCALE:GREGORIAN
METHOD:PUBLISH
X-ORIGINAL-URL:https://auschess.org.au
X-WR-CALDESC:Events for Australian Chess Federation Inc.
REFRESH-INTERVAL;VALUE=DURATION:PT1H
X-Robots-Tag:noindex
X-PUBLISHED-TTL:PT1H
BEGIN:VTIMEZONE
TZID:Australia/Sydney
BEGIN:STANDARD
TZOFFSETFROM:+1100
TZOFFSETTO:+1000
TZNAME:AEST
DTSTART:20180331T160000
END:STANDARD
BEGIN:DAYLIGHT
TZOFFSETFROM:+1000
TZOFFSETTO:+1100
TZNAME:AEDT
DTSTART:20181006T160000
END:DAYLIGHT
END:VTIMEZONE
BEGIN:VEVENT
DTSTART;VALUE=DATE:20181014
DTEND;VALUE=DATE:20181022
DTSTAMP:20260423T110814
CREATED:20180820T110604Z
LAST-MODIFIED:20180820T110604Z
UID:198-1539475200-1540166399@auschess.org.au
SUMMARY:1st World Team Championship for Disabled
DESCRIPTION:
URL:https://auschess.org.au/event/1st-world-team-championship-for-disabled/
LOCATION:Wyndham Garden Dresden\, Wilhelm-Franke-Straße 90\, Dresden\, Germany\, 01219\, Germany
CATEGORIES:Global Events
END:VEVENT
BEGIN:VEVENT
DTSTART;VALUE=DATE:20181015
DTEND;VALUE=DATE:20181019
DTSTAMP:20260423T110814
CREATED:20180820T111105Z
LAST-MODIFIED:20180820T130805Z
UID:203-1539561600-1539907199@auschess.org.au
SUMMARY:World Youth U14/16/18 Rapid & Blitz Championships
DESCRIPTION:
URL:https://auschess.org.au/event/world-youth-rapid-blitz-championships/
LOCATION:Halkidiki\, Greece\, Halkidiki\, Greece\, Greece
CATEGORIES:Global Events
END:VEVENT
END:VCALENDAR