BEGIN:VCALENDAR
VERSION:2.0
PRODID:-//Australian Chess Federation Inc. - ECPv6.8.3//NONSGML v1.0//EN
CALSCALE:GREGORIAN
METHOD:PUBLISH
X-WR-CALNAME:Australian Chess Federation Inc.
X-ORIGINAL-URL:https://auschess.org.au
X-WR-CALDESC:Events for Australian Chess Federation Inc.
REFRESH-INTERVAL;VALUE=DURATION:PT1H
X-Robots-Tag:noindex
X-PUBLISHED-TTL:PT1H
BEGIN:VTIMEZONE
TZID:Australia/Sydney
BEGIN:STANDARD
TZOFFSETFROM:+1100
TZOFFSETTO:+1000
TZNAME:AEST
DTSTART:20180331T160000
END:STANDARD
BEGIN:DAYLIGHT
TZOFFSETFROM:+1000
TZOFFSETTO:+1100
TZNAME:AEDT
DTSTART:20181006T160000
END:DAYLIGHT
END:VTIMEZONE
BEGIN:VEVENT
DTSTART;VALUE=DATE:20180923
DTEND;VALUE=DATE:20181008
DTSTAMP:20260423T110435
CREATED:20180820T085834Z
LAST-MODIFIED:20180928T164207Z
UID:163-1537696800-1538909999@auschess.org.au
SUMMARY:43rd World Chess Olympiad
DESCRIPTION:The Chess Olympiad is a biennial chess tournament in which teams from all over the world compete.  \nGames from the 2018 Olympiad can be watched live at Chess24: (Open tournament link) (Women’s tournament link)
URL:https://auschess.org.au/event/43rd-world-chess-olympiad/
LOCATION:Batumi\, Georgia\, Batumi\, Georgia
CATEGORIES:Global Events
END:VEVENT
BEGIN:VEVENT
DTSTART;VALUE=DATE:20180927
DTEND;VALUE=DATE:20181007
DTSTAMP:20260423T110435
CREATED:20180820T090349Z
LAST-MODIFIED:20180820T090349Z
UID:166-1538006400-1538870399@auschess.org.au
SUMMARY:89th FIDE Congress
DESCRIPTION:
URL:https://auschess.org.au/event/89th-fide-congress/
LOCATION:Batumi\, Georgia\, Batumi\, Georgia
CATEGORIES:Global Events
END:VEVENT
END:VCALENDAR