BEGIN:VCALENDAR
VERSION:2.0
PRODID:-//Australian Chess Federation Inc. - ECPv6.8.3//NONSGML v1.0//EN
CALSCALE:GREGORIAN
METHOD:PUBLISH
X-WR-CALNAME:Australian Chess Federation Inc.
X-ORIGINAL-URL:https://auschess.org.au
X-WR-CALDESC:Events for Australian Chess Federation Inc.
REFRESH-INTERVAL;VALUE=DURATION:PT1H
X-Robots-Tag:noindex
X-PUBLISHED-TTL:PT1H
BEGIN:VTIMEZONE
TZID:Australia/Sydney
BEGIN:STANDARD
TZOFFSETFROM:+1100
TZOFFSETTO:+1000
TZNAME:AEST
DTSTART:20210403T160000
END:STANDARD
BEGIN:DAYLIGHT
TZOFFSETFROM:+1000
TZOFFSETTO:+1100
TZNAME:AEDT
DTSTART:20211002T160000
END:DAYLIGHT
END:VTIMEZONE
BEGIN:VEVENT
DTSTART;TZID=Australia/Sydney:20211114T000000
DTEND;TZID=Australia/Sydney:20211120T000000
DTSTAMP:20260421T233208
CREATED:20210614T071301Z
LAST-MODIFIED:20211011T043253Z
UID:3058-1636848000-1637366400@auschess.org.au
SUMMARY:Oceania & Australia Senior Chess Championships CANCELLED
DESCRIPTION:The Noosa Chess team organising the Oceania Seniors regretfully have cancelled the event for this year due to the uncertain nature of travel. \nThis event is tentatively being looked at for Novenber 2022. \nOceania Seniors Entry Form
URL:https://auschess.org.au/event/oceania-australia-senior-chess-championships/
LOCATION:Tewantin Noosa RSL Club\, 1 Memorial Ave\, Tewantin\, QLD\, Australia
CATEGORIES:Global Events,National Events
ORGANIZER;CN="Noosa Shire Chess Club":MAILTO:secretary.noosachess@gmail.com
END:VEVENT
END:VCALENDAR